BEGIN:VCALENDAR
VERSION:2.0
PRODID:-//South Central Ohio District - ECPv6.11.0.1//NONSGML v1.0//EN
CALSCALE:GREGORIAN
METHOD:PUBLISH
X-WR-CALNAME:South Central Ohio District
X-ORIGINAL-URL:https://staging.sconaz.org
X-WR-CALDESC:Events for South Central Ohio District
REFRESH-INTERVAL;VALUE=DURATION:PT1H
X-Robots-Tag:noindex
X-PUBLISHED-TTL:PT1H
BEGIN:VTIMEZONE
TZID:America/New_York
BEGIN:DAYLIGHT
TZOFFSETFROM:-0500
TZOFFSETTO:-0400
TZNAME:EDT
DTSTART:20250309T070000
END:DAYLIGHT
BEGIN:STANDARD
TZOFFSETFROM:-0400
TZOFFSETTO:-0500
TZNAME:EST
DTSTART:20251102T060000
END:STANDARD
END:VTIMEZONE
BEGIN:VEVENT
DTSTART;TZID=America/New_York:20250604T080000
DTEND;TZID=America/New_York:20250604T170000
DTSTAMP:20260419T082618
CREATED:20250117T212456Z
LAST-MODIFIED:20250117T212457Z
UID:10000343-1749024000-1749056400@staging.sconaz.org
SUMMARY:Quizzing
DESCRIPTION:
URL:https://staging.sconaz.org/event/quizzing-3/
LOCATION:MVNU
END:VEVENT
BEGIN:VEVENT
DTSTART;TZID=America/New_York:20250604T080000
DTEND;TZID=America/New_York:20250607T170000
DTSTAMP:20260419T082618
CREATED:20250117T035345Z
LAST-MODIFIED:20250117T035351Z
UID:10000332-1749024000-1749315600@staging.sconaz.org
SUMMARY:MVNU Field BLAST
DESCRIPTION:
URL:https://staging.sconaz.org/event/mvnu-field-blast/
END:VEVENT
BEGIN:VEVENT
DTSTART;TZID=America/New_York:20250605T080000
DTEND;TZID=America/New_York:20250605T170000
DTSTAMP:20260419T082618
CREATED:20250117T212618Z
LAST-MODIFIED:20250117T212621Z
UID:10000344-1749110400-1749142800@staging.sconaz.org
SUMMARY:Quizzing
DESCRIPTION:
URL:https://staging.sconaz.org/event/quizzing-4/
LOCATION:MVNU
END:VEVENT
BEGIN:VEVENT
DTSTART;TZID=America/New_York:20250606T080000
DTEND;TZID=America/New_York:20250606T170000
DTSTAMP:20260419T082618
CREATED:20250117T212659Z
LAST-MODIFIED:20250117T212701Z
UID:10000345-1749196800-1749229200@staging.sconaz.org
SUMMARY:Quizzing
DESCRIPTION:
URL:https://staging.sconaz.org/event/quizzing-5/
LOCATION:MVNU
END:VEVENT
BEGIN:VEVENT
DTSTART;TZID=America/New_York:20250607T080000
DTEND;TZID=America/New_York:20250607T170000
DTSTAMP:20260419T082618
CREATED:20250117T212743Z
LAST-MODIFIED:20250117T212745Z
UID:10000346-1749283200-1749315600@staging.sconaz.org
SUMMARY:Quizzing
DESCRIPTION:
URL:https://staging.sconaz.org/event/quizzing-6/
LOCATION:MVNU
END:VEVENT
BEGIN:VEVENT
DTSTART;TZID=America/New_York:20250614T100000
DTEND;TZID=America/New_York:20250614T120000
DTSTAMP:20260419T082618
CREATED:20240124T202450Z
LAST-MODIFIED:20240124T202452Z
UID:10000192-1749895200-1749902400@staging.sconaz.org
SUMMARY:District Advisory Board Meeting
DESCRIPTION:District Office
URL:https://staging.sconaz.org/event/district-advisory-board-meeting-9/
END:VEVENT
BEGIN:VEVENT
DTSTART;TZID=America/New_York:20250623T000000
DTEND;TZID=America/New_York:20250626T235959
DTSTAMP:20260419T082618
CREATED:20240124T202753Z
LAST-MODIFIED:20250108T221757Z
UID:10000194-1750636800-1750982399@staging.sconaz.org
SUMMARY:Teen Camp
DESCRIPTION:
URL:https://staging.sconaz.org/event/teen-camp/
END:VEVENT
BEGIN:VEVENT
DTSTART;TZID=America/New_York:20250623T000000
DTEND;TZID=America/New_York:20250628T235959
DTSTAMP:20260419T082618
CREATED:20240124T202657Z
LAST-MODIFIED:20240124T202659Z
UID:10000193-1750636800-1751155199@staging.sconaz.org
SUMMARY:Q Event at Olivet
DESCRIPTION:
URL:https://staging.sconaz.org/event/q-event-at-olivet/
END:VEVENT
BEGIN:VEVENT
DTSTART;TZID=America/New_York:20250623T080000
DTEND;TZID=America/New_York:20250623T170000
DTSTAMP:20260419T082618
CREATED:20250109T051630Z
LAST-MODIFIED:20250109T051632Z
UID:10000290-1750665600-1750698000@staging.sconaz.org
SUMMARY:Teen Camp
DESCRIPTION:
URL:https://staging.sconaz.org/event/teen-camp-2/
LOCATION:Higher Grounds
END:VEVENT
END:VCALENDAR