BEGIN:VCALENDAR
VERSION:2.0
PRODID:-//South Central Ohio District - ECPv6.11.0.1//NONSGML v1.0//EN
CALSCALE:GREGORIAN
METHOD:PUBLISH
X-WR-CALNAME:South Central Ohio District
X-ORIGINAL-URL:https://staging.sconaz.org
X-WR-CALDESC:Events for South Central Ohio District
REFRESH-INTERVAL;VALUE=DURATION:PT1H
X-Robots-Tag:noindex
X-PUBLISHED-TTL:PT1H
BEGIN:VTIMEZONE
TZID:America/New_York
BEGIN:DAYLIGHT
TZOFFSETFROM:-0500
TZOFFSETTO:-0400
TZNAME:EDT
DTSTART:20250309T070000
END:DAYLIGHT
BEGIN:STANDARD
TZOFFSETFROM:-0400
TZOFFSETTO:-0500
TZNAME:EST
DTSTART:20251102T060000
END:STANDARD
END:VTIMEZONE
BEGIN:VEVENT
DTSTART;TZID=America/New_York:20250201T080000
DTEND;TZID=America/New_York:20250201T170000
DTSTAMP:20260419T172559
CREATED:20240124T184113Z
LAST-MODIFIED:20240124T184115Z
UID:10000158-1738396800-1738429200@staging.sconaz.org
SUMMARY:District Licence Interviews
DESCRIPTION:Logan Church
URL:https://staging.sconaz.org/event/district-licence-interviews/
END:VEVENT
BEGIN:VEVENT
DTSTART;TZID=America/New_York:20250208T000000
DTEND;TZID=America/New_York:20250208T235959
DTSTAMP:20260419T172559
CREATED:20240220T173513Z
LAST-MODIFIED:20250108T203052Z
UID:10000206-1738972800-1739059199@staging.sconaz.org
SUMMARY:Children's Quiz
DESCRIPTION:
URL:https://staging.sconaz.org/event/childrens-quiz-2/
LOCATION:Faith Memorial\, 210 W Fair Ave\, Lancaster\, Ohio\, 43130\, United States
END:VEVENT
BEGIN:VEVENT
DTSTART;TZID=America/New_York:20250208T080000
DTEND;TZID=America/New_York:20250208T120000
DTSTAMP:20260419T172559
CREATED:20250109T050759Z
LAST-MODIFIED:20250109T050801Z
UID:10000279-1739001600-1739016000@staging.sconaz.org
SUMMARY:Multicultural Couple's Workshop
DESCRIPTION:
URL:https://staging.sconaz.org/event/multicultural-couples-workshop/
LOCATION:Primera Iglesia del Nazareno Ven y Ve
END:VEVENT
BEGIN:VEVENT
DTSTART;TZID=America/New_York:20250210T000000
DTEND;TZID=America/New_York:20250210T235959
DTSTAMP:20260419T172559
CREATED:20240124T185219Z
LAST-MODIFIED:20240124T185221Z
UID:10000161-1739145600-1739231999@staging.sconaz.org
SUMMARY:Non-Lead Pastor Reports Due
DESCRIPTION:
URL:https://staging.sconaz.org/event/non-lead-pastor-reports-due/
END:VEVENT
BEGIN:VEVENT
DTSTART;TZID=America/New_York:20250210T000000
DTEND;TZID=America/New_York:20250212T235959
DTSTAMP:20260419T172559
CREATED:20240124T184530Z
LAST-MODIFIED:20240124T184531Z
UID:10000159-1739145600-1739404799@staging.sconaz.org
SUMMARY:M25 Conference
DESCRIPTION:Kansas City\, KS
URL:https://staging.sconaz.org/event/m25-conference/
ATTACH;FMTTYPE=image/jpeg:https://staging.sconaz.org/wp-content/uploads/2024/01/M25-.jpeg
END:VEVENT
BEGIN:VEVENT
DTSTART;TZID=America/New_York:20250214T080000
DTEND;TZID=America/New_York:20250216T170000
DTSTAMP:20260419T172559
CREATED:20250225T143415Z
LAST-MODIFIED:20250225T143423Z
UID:10000351-1739520000-1739725200@staging.sconaz.org
SUMMARY:Clergy Kids Retreat
DESCRIPTION:
URL:https://staging.sconaz.org/event/clergy-kids-retreat/
END:VEVENT
BEGIN:VEVENT
DTSTART;TZID=America/New_York:20250215T080000
DTEND;TZID=America/New_York:20250215T170000
DTSTAMP:20260419T172559
CREATED:20250109T050844Z
LAST-MODIFIED:20250109T050846Z
UID:10000280-1739606400-1739638800@staging.sconaz.org
SUMMARY:MVNU Clergy Kid's Retreat
DESCRIPTION:
URL:https://staging.sconaz.org/event/mvnu-clergy-kids-retreat/
LOCATION:Kalahari
END:VEVENT
BEGIN:VEVENT
DTSTART;TZID=America/New_York:20250215T100000
DTEND;TZID=America/New_York:20250215T120000
DTSTAMP:20260419T172559
CREATED:20240124T200937Z
LAST-MODIFIED:20240124T200940Z
UID:10000186-1739613600-1739620800@staging.sconaz.org
SUMMARY:District Advisory Board Meeting
DESCRIPTION:District Office
URL:https://staging.sconaz.org/event/district-advisory-board-meeting-7/
END:VEVENT
BEGIN:VEVENT
DTSTART;TZID=America/New_York:20250216T080000
DTEND;TZID=America/New_York:20250216T170000
DTSTAMP:20260419T172559
CREATED:20250109T050921Z
LAST-MODIFIED:20250109T050924Z
UID:10000281-1739692800-1739725200@staging.sconaz.org
SUMMARY:MVNU Clergy Kid's Retreat
DESCRIPTION:
URL:https://staging.sconaz.org/event/mvnu-clergy-kids-retreat-2/
LOCATION:Kalahari
END:VEVENT
BEGIN:VEVENT
DTSTART;TZID=America/New_York:20250221T080000
DTEND;TZID=America/New_York:20250221T170000
DTSTAMP:20260419T172559
CREATED:20250225T143506Z
LAST-MODIFIED:20250225T143511Z
UID:10000352-1740124800-1740157200@staging.sconaz.org
SUMMARY:SCO NDI Conference
DESCRIPTION:
URL:https://staging.sconaz.org/event/sco-ndi-conference/
END:VEVENT
BEGIN:VEVENT
DTSTART;TZID=America/New_York:20250222T083000
DTEND;TZID=America/New_York:20250222T133000
DTSTAMP:20260419T172559
CREATED:20241205T164037Z
LAST-MODIFIED:20241205T164039Z
UID:10000249-1740213000-1740231000@staging.sconaz.org
SUMMARY:EQUIP
DESCRIPTION:
URL:https://staging.sconaz.org/event/equip/
LOCATION:Pickerington Church of the Nazarene
END:VEVENT
BEGIN:VEVENT
DTSTART;TZID=America/New_York:20250222T093000
DTEND;TZID=America/New_York:20250222T160000
DTSTAMP:20260419T172559
CREATED:20240824T181606Z
LAST-MODIFIED:20240824T181606Z
UID:10000223-1740216600-1740240000@staging.sconaz.org
SUMMARY:Teen Quizzing - Tournament #4
DESCRIPTION:Hosted by Grove City (4770 Hoover Road\, Grove City\, OH 43123) \n\n\n\nLuke chapters 1-21
URL:https://staging.sconaz.org/event/teen-quizzing-tournament-4/
CATEGORIES:Youth
END:VEVENT
END:VCALENDAR