BEGIN:VCALENDAR
VERSION:2.0
PRODID:-//South Central Ohio District - ECPv6.11.0.1//NONSGML v1.0//EN
CALSCALE:GREGORIAN
METHOD:PUBLISH
X-ORIGINAL-URL:https://staging.sconaz.org
X-WR-CALDESC:Events for South Central Ohio District
REFRESH-INTERVAL;VALUE=DURATION:PT1H
X-Robots-Tag:noindex
X-PUBLISHED-TTL:PT1H
BEGIN:VTIMEZONE
TZID:America/New_York
BEGIN:DAYLIGHT
TZOFFSETFROM:-0500
TZOFFSETTO:-0400
TZNAME:EDT
DTSTART:20240310T070000
END:DAYLIGHT
BEGIN:STANDARD
TZOFFSETFROM:-0400
TZOFFSETTO:-0500
TZNAME:EST
DTSTART:20241103T060000
END:STANDARD
END:VTIMEZONE
BEGIN:VEVENT
DTSTART;TZID=America/New_York:20241102T000000
DTEND;TZID=America/New_York:20241102T235959
DTSTAMP:20260419T214405
CREATED:20240124T195610Z
LAST-MODIFIED:20240124T195613Z
UID:10000180-1730505600-1730591999@staging.sconaz.org
SUMMARY:Children's Quiz
DESCRIPTION:
URL:https://staging.sconaz.org/event/childrens-quiz/
END:VEVENT
BEGIN:VEVENT
DTSTART;TZID=America/New_York:20241102T100000
DTEND;TZID=America/New_York:20241102T120000
DTSTAMP:20260419T214405
CREATED:20240124T195529Z
LAST-MODIFIED:20240124T195532Z
UID:10000179-1730541600-1730548800@staging.sconaz.org
SUMMARY:NYI Council Meeting
DESCRIPTION:
URL:https://staging.sconaz.org/event/nyi-council-meeting-6/
END:VEVENT
BEGIN:VEVENT
DTSTART;TZID=America/New_York:20241109T100000
DTEND;TZID=America/New_York:20241109T120000
DTSTAMP:20260419T214405
CREATED:20230831T101924Z
LAST-MODIFIED:20230831T101926Z
UID:10000119-1731146400-1731153600@staging.sconaz.org
SUMMARY:NMI Council Meeting
DESCRIPTION:
URL:https://staging.sconaz.org/event/nmi-council-meeting-3/
END:VEVENT
BEGIN:VEVENT
DTSTART;TZID=America/New_York:20241122T180000
DTEND;TZID=America/New_York:20241123T160000
DTSTAMP:20260419T214405
CREATED:20240824T181022Z
LAST-MODIFIED:20240824T181023Z
UID:10000220-1732298400-1732377600@staging.sconaz.org
SUMMARY:Teen Quizzing - MVNU Tri-State Invitational
DESCRIPTION:Luke chapters 1-11
URL:https://staging.sconaz.org/event/teen-quizzing-mvnu-tri-state-invitational/
CATEGORIES:Youth
END:VEVENT
BEGIN:VEVENT
DTSTART;TZID=America/New_York:20241127T000000
DTEND;TZID=America/New_York:20241129T235959
DTSTAMP:20260419T214405
CREATED:20230831T102029Z
LAST-MODIFIED:20240124T182949Z
UID:10000121-1732665600-1732924799@staging.sconaz.org
SUMMARY:Thanksgiving Holidays - Office Closed
DESCRIPTION:
URL:https://staging.sconaz.org/event/office-closed-for-holiday/
END:VEVENT
END:VCALENDAR