BEGIN:VCALENDAR
VERSION:2.0
PRODID:-//South Central Ohio District - ECPv6.11.0.1//NONSGML v1.0//EN
CALSCALE:GREGORIAN
METHOD:PUBLISH
X-ORIGINAL-URL:https://staging.sconaz.org
X-WR-CALDESC:Events for South Central Ohio District
REFRESH-INTERVAL;VALUE=DURATION:PT1H
X-Robots-Tag:noindex
X-PUBLISHED-TTL:PT1H
BEGIN:VTIMEZONE
TZID:UTC
BEGIN:STANDARD
TZOFFSETFROM:+0000
TZOFFSETTO:+0000
TZNAME:UTC
DTSTART:20240101T000000
END:STANDARD
END:VTIMEZONE
BEGIN:VTIMEZONE
TZID:America/New_York
BEGIN:DAYLIGHT
TZOFFSETFROM:-0500
TZOFFSETTO:-0400
TZNAME:EDT
DTSTART:20240310T070000
END:DAYLIGHT
BEGIN:STANDARD
TZOFFSETFROM:-0400
TZOFFSETTO:-0500
TZNAME:EST
DTSTART:20241103T060000
END:STANDARD
END:VTIMEZONE
BEGIN:VEVENT
DTSTART;TZID=UTC:20240701T080000
DTEND;TZID=UTC:20240706T170000
DTSTAMP:20260422T175512
CREATED:20230323T075232Z
LAST-MODIFIED:20230323T075232Z
UID:10000073-1719820800-1720285200@staging.sconaz.org
SUMMARY:Q2024
DESCRIPTION:
URL:https://staging.sconaz.org/event/q2024/
LOCATION:PLNU
CATEGORIES:Youth
END:VEVENT
BEGIN:VEVENT
DTSTART;TZID=America/New_York:20240704T000000
DTEND;TZID=America/New_York:20240704T235959
DTSTAMP:20260422T175512
CREATED:20230831T101253Z
LAST-MODIFIED:20240124T193718Z
UID:10000111-1720051200-1720137599@staging.sconaz.org
SUMMARY:Independence Day - Office Closed
DESCRIPTION:
URL:https://staging.sconaz.org/event/office-closed-2/
END:VEVENT
BEGIN:VEVENT
DTSTART;TZID=America/New_York:20240706T000000
DTEND;TZID=America/New_York:20240713T235959
DTSTAMP:20260422T175512
CREATED:20240124T194528Z
LAST-MODIFIED:20240124T194530Z
UID:10000174-1720224000-1720915199@staging.sconaz.org
SUMMARY:NYI - Encuentro Trip
DESCRIPTION:
URL:https://staging.sconaz.org/event/nyi-encuentro-trip/
END:VEVENT
BEGIN:VEVENT
DTSTART;TZID=America/New_York:20240708T080000
DTEND;TZID=America/New_York:20240712T170000
DTSTAMP:20260422T175512
CREATED:20230831T101332Z
LAST-MODIFIED:20230831T101333Z
UID:10000112-1720425600-1720803600@staging.sconaz.org
SUMMARY:SCO Kids Camp
DESCRIPTION:
URL:https://staging.sconaz.org/event/sco-kids-camp/
END:VEVENT
BEGIN:VEVENT
DTSTART;TZID=America/New_York:20240714T000000
DTEND;TZID=America/New_York:20240721T235959
DTSTAMP:20260422T175512
CREATED:20230831T101420Z
LAST-MODIFIED:20240124T194310Z
UID:10000113-1720915200-1721606399@staging.sconaz.org
SUMMARY:SCO Camp Meeting
DESCRIPTION:Children’s Mission Week – July 14-21  \n\n\n\n/ Speakers: Dr. David Graves & Dr. Samantha Chambo \n\n\n\n/Worship Leader: Nick Robertson  \n\n\n\n/ Hocking Hills Retreat Center – Logan\, OH
URL:https://staging.sconaz.org/event/sco-camp-meeting-2/
END:VEVENT
BEGIN:VEVENT
DTSTART;TZID=America/New_York:20240716T100000
DTEND;TZID=America/New_York:20240716T120000
DTSTAMP:20260422T175512
CREATED:20240418T195628Z
LAST-MODIFIED:20240418T201149Z
UID:10000213-1721124000-1721131200@staging.sconaz.org
SUMMARY:Coaching for Effective Leadership Training
DESCRIPTION:Logan Church –  \n\n\n\nDr. David Graves will be teaching about how to be an effective preacher in the morning. We will have lunch together – that will be provided. Then after lunch\, Nick Robertson will be teaching us about the importance of worship.
URL:https://staging.sconaz.org/event/coaching-for-effective-leadership-training-2/
END:VEVENT
BEGIN:VEVENT
DTSTART;TZID=America/New_York:20240719T113000
DTEND;TZID=America/New_York:20240719T140000
DTSTAMP:20260422T175512
CREATED:20240418T200740Z
LAST-MODIFIED:20240418T201307Z
UID:10000214-1721388600-1721397600@staging.sconaz.org
SUMMARY:Coaching for Effective Leadership
DESCRIPTION:Old Dutch Restaurant –  \n\n\n\nDr. Samantha Chambo will be speaking to women in ministry and ministry spouses! We will meet at the Old Dutch Restaurant at 11:30 am. This will be a wonderful time we hope you can join us.
URL:https://staging.sconaz.org/event/coaching-for-effective-leadership/
END:VEVENT
BEGIN:VEVENT
DTSTART;TZID=America/New_York:20240720T083000
DTEND;TZID=America/New_York:20240720T120000
DTSTAMP:20260422T175512
CREATED:20240418T194523Z
LAST-MODIFIED:20240418T194524Z
UID:10000210-1721464200-1721476800@staging.sconaz.org
SUMMARY:ReTool Road Trip
DESCRIPTION:Logan Church \n\n\n\nThis is for Pastors\, Staff Pastors\, and Church Boards or Leadership Teams.
URL:https://staging.sconaz.org/event/retool-road-trip/
END:VEVENT
END:VCALENDAR