BEGIN:VCALENDAR
VERSION:2.0
PRODID:-//South Central Ohio District - ECPv6.11.0.1//NONSGML v1.0//EN
CALSCALE:GREGORIAN
METHOD:PUBLISH
X-ORIGINAL-URL:https://staging.sconaz.org
X-WR-CALDESC:Events for South Central Ohio District
REFRESH-INTERVAL;VALUE=DURATION:PT1H
X-Robots-Tag:noindex
X-PUBLISHED-TTL:PT1H
BEGIN:VTIMEZONE
TZID:America/New_York
BEGIN:DAYLIGHT
TZOFFSETFROM:-0500
TZOFFSETTO:-0400
TZNAME:EDT
DTSTART:20240310T070000
END:DAYLIGHT
BEGIN:STANDARD
TZOFFSETFROM:-0400
TZOFFSETTO:-0500
TZNAME:EST
DTSTART:20241103T060000
END:STANDARD
END:VTIMEZONE
BEGIN:VTIMEZONE
TZID:UTC
BEGIN:STANDARD
TZOFFSETFROM:+0000
TZOFFSETTO:+0000
TZNAME:UTC
DTSTART:20240101T000000
END:STANDARD
END:VTIMEZONE
BEGIN:VEVENT
DTSTART;TZID=America/New_York:20240502T190000
DTEND;TZID=America/New_York:20240503T160000
DTSTAMP:20260423T002941
CREATED:20230831T100658Z
LAST-MODIFIED:20240418T190432Z
UID:10000105-1714676400-1714752000@staging.sconaz.org
SUMMARY:SCO District Assembly
DESCRIPTION:We will be kicking things off with the Ordination Service in the evening of May 2 at 7:00 pm. We will start our session on Friday\, May 3 at 8:30 am and hear the report of Dr. Barber in the morning at 9:00 am. Dr. Filiamo Chambo is our jurisdictional General Superintendent and we will have the privilege to hear from him.
URL:https://staging.sconaz.org/event/sco-district-assembly/
END:VEVENT
BEGIN:VEVENT
DTSTART;TZID=America/New_York:20240503T190000
DTEND;TZID=America/New_York:20240504T160000
DTSTAMP:20260423T002941
CREATED:20240131T174435Z
LAST-MODIFIED:20240131T194420Z
UID:10000205-1714762800-1714838400@staging.sconaz.org
SUMMARY:MVNU Commencement
DESCRIPTION:May 3 – 7 p.m. — Baccalaureate worship service\, R.R. Hodges Chapel/Auditorium\, followed by President’s Dessert Reception\, Dining Commons /  \n\n\n\n May 4 – 10 a.m. — Traditional Graduate Commencement Service (Tickets required) \n\n\n\n2 p.m. — School of Graduate and Professional Studies Commencement Service (No tickets required)
URL:https://staging.sconaz.org/event/mvnu-commencement/
END:VEVENT
BEGIN:VEVENT
DTSTART;TZID=UTC:20240509T080000
DTEND;TZID=UTC:20240511T170000
DTSTAMP:20260423T002941
CREATED:20230323T075154Z
LAST-MODIFIED:20230818T191450Z
UID:10000028-1715241600-1715446800@staging.sconaz.org
SUMMARY:Teen Quizzing MVNU/ECR Field Finals
DESCRIPTION:At Mt. Vernon First – 807 Coshocton Ave\, Mt Vernon\, OH 43050
URL:https://staging.sconaz.org/event/mvnu-ecr-field-quizzing-finals/
CATEGORIES:Youth
END:VEVENT
BEGIN:VEVENT
DTSTART;TZID=America/New_York:20240518T000000
DTEND;TZID=America/New_York:20240518T235959
DTSTAMP:20260423T002941
CREATED:20230731T155729Z
LAST-MODIFIED:20230731T155933Z
UID:10000042-1715990400-1716076799@staging.sconaz.org
SUMMARY:Children's Quizzing Regional Finals
DESCRIPTION:At Mount Vernon Nazarene University (800 Martinsburg Rd\, Mt Vernon\, OH 43050)
URL:https://staging.sconaz.org/event/childrens-quizzing-regional-finals/
END:VEVENT
BEGIN:VEVENT
DTSTART;TZID=America/New_York:20240523T190000
DTEND;TZID=America/New_York:20240523T203000
DTSTAMP:20260423T002942
CREATED:20240124T174827Z
LAST-MODIFIED:20240124T174829Z
UID:10000154-1716490800-1716496200@staging.sconaz.org
SUMMARY:NDI Council Meeting
DESCRIPTION:
URL:https://staging.sconaz.org/event/ndi-council-meeting/
END:VEVENT
BEGIN:VEVENT
DTSTART;TZID=America/New_York:20240527T000000
DTEND;TZID=America/New_York:20240527T235959
DTSTAMP:20260423T002942
CREATED:20230831T101048Z
LAST-MODIFIED:20240124T174600Z
UID:10000109-1716768000-1716854399@staging.sconaz.org
SUMMARY:Memorial Day
DESCRIPTION:Office Close
URL:https://staging.sconaz.org/event/memorial-day/
END:VEVENT
END:VCALENDAR