BEGIN:VCALENDAR
VERSION:2.0
PRODID:-//South Central Ohio District - ECPv6.11.0.1//NONSGML v1.0//EN
CALSCALE:GREGORIAN
METHOD:PUBLISH
X-WR-CALNAME:South Central Ohio District
X-ORIGINAL-URL:https://staging.sconaz.org
X-WR-CALDESC:Events for South Central Ohio District
REFRESH-INTERVAL;VALUE=DURATION:PT1H
X-Robots-Tag:noindex
X-PUBLISHED-TTL:PT1H
BEGIN:VTIMEZONE
TZID:America/New_York
BEGIN:DAYLIGHT
TZOFFSETFROM:-0500
TZOFFSETTO:-0400
TZNAME:EDT
DTSTART:20230312T070000
END:DAYLIGHT
BEGIN:STANDARD
TZOFFSETFROM:-0400
TZOFFSETTO:-0500
TZNAME:EST
DTSTART:20231105T060000
END:STANDARD
BEGIN:DAYLIGHT
TZOFFSETFROM:-0500
TZOFFSETTO:-0400
TZNAME:EDT
DTSTART:20240310T070000
END:DAYLIGHT
BEGIN:STANDARD
TZOFFSETFROM:-0400
TZOFFSETTO:-0500
TZNAME:EST
DTSTART:20241103T060000
END:STANDARD
END:VTIMEZONE
BEGIN:VTIMEZONE
TZID:UTC
BEGIN:STANDARD
TZOFFSETFROM:+0000
TZOFFSETTO:+0000
TZNAME:UTC
DTSTART:20240101T000000
END:STANDARD
END:VTIMEZONE
BEGIN:VEVENT
DTSTART;TZID=America/New_York:20231221T000000
DTEND;TZID=America/New_York:20240101T235959
DTSTAMP:20260423T175952
CREATED:20230830T165026Z
LAST-MODIFIED:20230830T165027Z
UID:10000082-1703116800-1704153599@staging.sconaz.org
SUMMARY:District Office Closed for Christmas Break
DESCRIPTION:
URL:https://staging.sconaz.org/event/district-office-closed-for-christmas-break/
END:VEVENT
BEGIN:VEVENT
DTSTART;TZID=America/New_York:20240106T080000
DTEND;TZID=America/New_York:20240106T170000
DTSTAMP:20260423T175952
CREATED:20230831T094809Z
LAST-MODIFIED:20230831T094810Z
UID:10000084-1704528000-1704560400@staging.sconaz.org
SUMMARY:Ordination Interviews
DESCRIPTION:
URL:https://staging.sconaz.org/event/ordination-interviews/
END:VEVENT
BEGIN:VEVENT
DTSTART;TZID=America/New_York:20240109T100000
DTEND;TZID=America/New_York:20240109T110000
DTSTAMP:20260423T175952
CREATED:20230831T094958Z
LAST-MODIFIED:20230831T095000Z
UID:10000085-1704794400-1704798000@staging.sconaz.org
SUMMARY:District Calendar Meeting
DESCRIPTION:
URL:https://staging.sconaz.org/event/district-calendar-meeting/
END:VEVENT
BEGIN:VEVENT
DTSTART;TZID=America/New_York:20240109T130000
DTEND;TZID=America/New_York:20240109T140000
DTSTAMP:20260423T175952
CREATED:20230831T095122Z
LAST-MODIFIED:20230831T095123Z
UID:10000086-1704805200-1704808800@staging.sconaz.org
SUMMARY:SubFinance Meeting
DESCRIPTION:
URL:https://staging.sconaz.org/event/subfinance-meeting/
END:VEVENT
BEGIN:VEVENT
DTSTART;TZID=America/New_York:20240110T100000
DTEND;TZID=America/New_York:20240110T170000
DTSTAMP:20260423T175952
CREATED:20230831T095204Z
LAST-MODIFIED:20230831T095205Z
UID:10000087-1704880800-1704906000@staging.sconaz.org
SUMMARY:NMI and NYI Joint Convention Planning Meeting
DESCRIPTION:
URL:https://staging.sconaz.org/event/nmi-and-nyi-joint-convention-planning-meeting/
END:VEVENT
BEGIN:VEVENT
DTSTART;TZID=America/New_York:20240113T100000
DTEND;TZID=America/New_York:20240113T140000
DTSTAMP:20260423T175952
CREATED:20231003T201627Z
LAST-MODIFIED:20240105T215946Z
UID:10000130-1705140000-1705154400@staging.sconaz.org
SUMMARY:Coaching for Effective Leadership
DESCRIPTION:With Dr. Ryan Griffin
URL:https://staging.sconaz.org/event/coaching-for-effective-leadership-5/
LOCATION:Grace Life Church of the Nazarene\, 6000 Johnstown Road\, New Albany\, Ohio\, 43054\, United States
END:VEVENT
BEGIN:VEVENT
DTSTART;TZID=America/New_York:20240115T080000
DTEND;TZID=America/New_York:20240115T170000
DTSTAMP:20260423T175952
CREATED:20230831T095413Z
LAST-MODIFIED:20230831T095415Z
UID:10000090-1705305600-1705338000@staging.sconaz.org
SUMMARY:Office Closed MLK
DESCRIPTION:
URL:https://staging.sconaz.org/event/office-closed-mlk/
END:VEVENT
BEGIN:VEVENT
DTSTART;TZID=America/New_York:20240116T110000
DTEND;TZID=America/New_York:20240116T120000
DTSTAMP:20260423T175952
CREATED:20230831T095508Z
LAST-MODIFIED:20230831T095509Z
UID:10000091-1705402800-1705406400@staging.sconaz.org
SUMMARY:Finance Committee Meeting
DESCRIPTION:
URL:https://staging.sconaz.org/event/finance-committee-meeting/
END:VEVENT
BEGIN:VEVENT
DTSTART;TZID=America/New_York:20240116T130000
DTEND;TZID=America/New_York:20240116T140000
DTSTAMP:20260423T175952
CREATED:20230831T095542Z
LAST-MODIFIED:20230831T095709Z
UID:10000092-1705410000-1705413600@staging.sconaz.org
SUMMARY:Nominating Committee Meeting
DESCRIPTION:
URL:https://staging.sconaz.org/event/nominating-committee-meeting/
END:VEVENT
BEGIN:VEVENT
DTSTART;TZID=America/New_York:20240118T183000
DTEND;TZID=America/New_York:20240118T203000
DTSTAMP:20260423T175952
CREATED:20230831T095249Z
LAST-MODIFIED:20231003T201441Z
UID:10000088-1705602600-1705609800@staging.sconaz.org
SUMMARY:District Advisory Board Meeting
DESCRIPTION:
URL:https://staging.sconaz.org/event/district-advisory-board-meeting-3/
LOCATION:Zoom
END:VEVENT
BEGIN:VEVENT
DTSTART;TZID=America/New_York:20240120T080000
DTEND;TZID=America/New_York:20240120T170000
DTSTAMP:20260423T175952
CREATED:20230831T095833Z
LAST-MODIFIED:20230831T095834Z
UID:10000094-1705737600-1705770000@staging.sconaz.org
SUMMARY:NMI Council Meeting
DESCRIPTION:
URL:https://staging.sconaz.org/event/nmi-council-meeting-2/
END:VEVENT
BEGIN:VEVENT
DTSTART;TZID=UTC:20240126T080000
DTEND;TZID=UTC:20240128T170000
DTSTAMP:20260423T175952
CREATED:20230323T074924Z
LAST-MODIFIED:20230505T152541Z
UID:10000023-1706256000-1706461200@staging.sconaz.org
SUMMARY:SCO Winter Retreat
DESCRIPTION:
URL:https://staging.sconaz.org/event/sco-winter-retreat-2/
LOCATION:Higher Grounds
CATEGORIES:Youth
END:VEVENT
BEGIN:VEVENT
DTSTART;VALUE=DATE:20240127
DTEND;VALUE=DATE:20240128
DTSTAMP:20260423T175952
CREATED:20230323T074955Z
LAST-MODIFIED:20230505T152551Z
UID:10000024-1706313600-1706399999@staging.sconaz.org
SUMMARY:NYI Council Meeting
DESCRIPTION:
URL:https://staging.sconaz.org/event/nyi-council-meeting-4/
LOCATION:Higher Grounds
CATEGORIES:Youth
END:VEVENT
BEGIN:VEVENT
DTSTART;TZID=America/New_York:20240127T080000
DTEND;TZID=America/New_York:20240127T170000
DTSTAMP:20260423T175952
CREATED:20230831T100008Z
LAST-MODIFIED:20230831T100010Z
UID:10000096-1706342400-1706374800@staging.sconaz.org
SUMMARY:Appointed Pastor's Review
DESCRIPTION:
URL:https://staging.sconaz.org/event/appointed-pastors-review/
END:VEVENT
END:VCALENDAR