BEGIN:VCALENDAR
VERSION:2.0
PRODID:-//South Central Ohio District - ECPv6.11.0.1//NONSGML v1.0//EN
CALSCALE:GREGORIAN
METHOD:PUBLISH
X-ORIGINAL-URL:https://staging.sconaz.org
X-WR-CALDESC:Events for South Central Ohio District
REFRESH-INTERVAL;VALUE=DURATION:PT1H
X-Robots-Tag:noindex
X-PUBLISHED-TTL:PT1H
BEGIN:VTIMEZONE
TZID:America/New_York
BEGIN:DAYLIGHT
TZOFFSETFROM:-0500
TZOFFSETTO:-0400
TZNAME:EDT
DTSTART:20230312T070000
END:DAYLIGHT
BEGIN:STANDARD
TZOFFSETFROM:-0400
TZOFFSETTO:-0500
TZNAME:EST
DTSTART:20231105T060000
END:STANDARD
BEGIN:DAYLIGHT
TZOFFSETFROM:-0500
TZOFFSETTO:-0400
TZNAME:EDT
DTSTART:20240310T070000
END:DAYLIGHT
BEGIN:STANDARD
TZOFFSETFROM:-0400
TZOFFSETTO:-0500
TZNAME:EST
DTSTART:20241103T060000
END:STANDARD
END:VTIMEZONE
BEGIN:VTIMEZONE
TZID:UTC
BEGIN:STANDARD
TZOFFSETFROM:+0000
TZOFFSETTO:+0000
TZNAME:UTC
DTSTART:20230101T000000
END:STANDARD
END:VTIMEZONE
BEGIN:VEVENT
DTSTART;TZID=America/New_York:20231204T183000
DTEND;TZID=America/New_York:20231204T183000
DTSTAMP:20260424T203814
CREATED:20230830T164924Z
LAST-MODIFIED:20230830T164925Z
UID:10000081-1701714600-1701714600@staging.sconaz.org
SUMMARY:Annual Christmas Dinner
DESCRIPTION:
URL:https://staging.sconaz.org/event/annual-christmas-dinner/
LOCATION:Hocking Hills Retreat Center\, 30682 Chieftain Drive\, Logan\, OH\, 43138\, United States
END:VEVENT
BEGIN:VEVENT
DTSTART;TZID=UTC:20231209T000000
DTEND;TZID=UTC:20231209T235959
DTSTAMP:20260424T203814
CREATED:20230323T074702Z
LAST-MODIFIED:20230323T074702Z
UID:10000065-1702080000-1702166399@staging.sconaz.org
SUMMARY:SCO Quizzing Tournament #2
DESCRIPTION:
URL:https://staging.sconaz.org/event/sco-quizzing-tournament-2-2/
CATEGORIES:Youth
END:VEVENT
BEGIN:VEVENT
DTSTART;TZID=America/New_York:20231221T000000
DTEND;TZID=America/New_York:20240101T235959
DTSTAMP:20260424T203814
CREATED:20230830T165026Z
LAST-MODIFIED:20230830T165027Z
UID:10000082-1703116800-1704153599@staging.sconaz.org
SUMMARY:District Office Closed for Christmas Break
DESCRIPTION:
URL:https://staging.sconaz.org/event/district-office-closed-for-christmas-break/
END:VEVENT
END:VCALENDAR