BEGIN:VCALENDAR
VERSION:2.0
PRODID:-//South Central Ohio District - ECPv6.11.0.1//NONSGML v1.0//EN
CALSCALE:GREGORIAN
METHOD:PUBLISH
X-ORIGINAL-URL:https://staging.sconaz.org
X-WR-CALDESC:Events for South Central Ohio District
REFRESH-INTERVAL;VALUE=DURATION:PT1H
X-Robots-Tag:noindex
X-PUBLISHED-TTL:PT1H
BEGIN:VTIMEZONE
TZID:America/New_York
BEGIN:DAYLIGHT
TZOFFSETFROM:-0500
TZOFFSETTO:-0400
TZNAME:EDT
DTSTART:20250309T070000
END:DAYLIGHT
BEGIN:STANDARD
TZOFFSETFROM:-0400
TZOFFSETTO:-0500
TZNAME:EST
DTSTART:20251102T060000
END:STANDARD
END:VTIMEZONE
BEGIN:VEVENT
DTSTART;TZID=America/New_York:20250412T000000
DTEND;TZID=America/New_York:20250412T235959
DTSTAMP:20260420T005429
CREATED:20240124T201708Z
LAST-MODIFIED:20240124T201712Z
UID:10000188-1744416000-1744502399@staging.sconaz.org
SUMMARY:NMI/NYI Convention
DESCRIPTION:More info to come!
URL:https://staging.sconaz.org/event/nmi-nyi-convention/
END:VEVENT
BEGIN:VEVENT
DTSTART;TZID=America/New_York:20250412T080000
DTEND;TZID=America/New_York:20250412T170000
DTSTAMP:20260420T005429
CREATED:20250109T050958Z
LAST-MODIFIED:20250109T051001Z
UID:10000282-1744444800-1744477200@staging.sconaz.org
SUMMARY:NMI/NYI Convention
DESCRIPTION:
URL:https://staging.sconaz.org/event/nmi-nyi-convention-2/
LOCATION:Heritage Church – Circleville Campus\, 2264\, Walnut Creek Pike\, Northwood Park\, Circleville\, Pickaway County\, Ohio\, 43113\, United States
END:VEVENT
END:VCALENDAR