BEGIN:VCALENDAR
VERSION:2.0
PRODID:-//South Central Ohio District - ECPv6.11.0.1//NONSGML v1.0//EN
CALSCALE:GREGORIAN
METHOD:PUBLISH
X-WR-CALNAME:South Central Ohio District
X-ORIGINAL-URL:https://staging.sconaz.org
X-WR-CALDESC:Events for South Central Ohio District
REFRESH-INTERVAL;VALUE=DURATION:PT1H
X-Robots-Tag:noindex
X-PUBLISHED-TTL:PT1H
BEGIN:VTIMEZONE
TZID:America/New_York
BEGIN:DAYLIGHT
TZOFFSETFROM:-0500
TZOFFSETTO:-0400
TZNAME:EDT
DTSTART:20250309T070000
END:DAYLIGHT
BEGIN:STANDARD
TZOFFSETFROM:-0400
TZOFFSETTO:-0500
TZNAME:EST
DTSTART:20251102T060000
END:STANDARD
END:VTIMEZONE
BEGIN:VEVENT
DTSTART;TZID=America/New_York:20250322T000000
DTEND;TZID=America/New_York:20250327T235959
DTSTAMP:20260419T185159
CREATED:20250103T224958Z
LAST-MODIFIED:20250110T003919Z
UID:10000330-1742601600-1743119999@staging.sconaz.org
SUMMARY:Zone Missionary Tour Cezi Glendenning (Croatia)
DESCRIPTION:
URL:https://staging.sconaz.org/event/zone-missionary-tour-cezi-glendenning-croatia/2025-03-22/
END:VEVENT
BEGIN:VEVENT
DTSTART;TZID=America/New_York:20250327T080000
DTEND;TZID=America/New_York:20250327T170000
DTSTAMP:20260419T185159
CREATED:20250104T035504Z
LAST-MODIFIED:20250104T035505Z
UID:10000269-1743062400-1743094800@staging.sconaz.org
SUMMARY:Logan Zone at Logan
DESCRIPTION:
URL:https://staging.sconaz.org/event/logan-zone-at-logan/
END:VEVENT
BEGIN:VEVENT
DTSTART;TZID=America/New_York:20250327T184500
DTEND;TZID=America/New_York:20250327T191500
DTSTAMP:20260419T185159
CREATED:20241219T222140Z
LAST-MODIFIED:20241219T222143Z
UID:10000251-1743101100-1743102900@staging.sconaz.org
SUMMARY:Meeting
DESCRIPTION:
URL:https://staging.sconaz.org/event/meeting-2/
LOCATION:HHRC
END:VEVENT
BEGIN:VEVENT
DTSTART;TZID=America/New_York:20250327T184500
DTEND;TZID=America/New_York:20250327T200000
DTSTAMP:20260419T185159
CREATED:20241205T050541Z
LAST-MODIFIED:20241205T050746Z
UID:10000233-1743101100-1743105600@staging.sconaz.org
SUMMARY:HHRC Board meeting
DESCRIPTION:
URL:https://staging.sconaz.org/event/2025-hhrc-board-meeting-dates/2025-03-27/
LOCATION:HHRC
END:VEVENT
END:VCALENDAR