BEGIN:VCALENDAR
VERSION:2.0
PRODID:-//South Central Ohio District - ECPv6.11.0.1//NONSGML v1.0//EN
CALSCALE:GREGORIAN
METHOD:PUBLISH
X-ORIGINAL-URL:https://staging.sconaz.org
X-WR-CALDESC:Events for South Central Ohio District
REFRESH-INTERVAL;VALUE=DURATION:PT1H
X-Robots-Tag:noindex
X-PUBLISHED-TTL:PT1H
BEGIN:VTIMEZONE
TZID:America/New_York
BEGIN:DAYLIGHT
TZOFFSETFROM:-0500
TZOFFSETTO:-0400
TZNAME:EDT
DTSTART:20250309T070000
END:DAYLIGHT
BEGIN:STANDARD
TZOFFSETFROM:-0400
TZOFFSETTO:-0500
TZNAME:EST
DTSTART:20251102T060000
END:STANDARD
END:VTIMEZONE
BEGIN:VEVENT
DTSTART;TZID=America/New_York:20250118T080000
DTEND;TZID=America/New_York:20250118T170000
DTSTAMP:20260420T035605
CREATED:20250117T212239Z
LAST-MODIFIED:20250117T212242Z
UID:10000341-1737187200-1737219600@staging.sconaz.org
SUMMARY:Quizzing
DESCRIPTION:
URL:https://staging.sconaz.org/event/quizzing/
END:VEVENT
BEGIN:VEVENT
DTSTART;TZID=America/New_York:20250118T093000
DTEND;TZID=America/New_York:20250118T160000
DTSTAMP:20260420T035605
CREATED:20240824T181446Z
LAST-MODIFIED:20240824T181447Z
UID:10000222-1737192600-1737216000@staging.sconaz.org
SUMMARY:Teen Quizzing - Tournament #3
DESCRIPTION:Hosted by Darby Creek (10320 U.S. Rte. 62\, Orient\, OH 43146) \n\n\n\nLuke chapters 1-16
URL:https://staging.sconaz.org/event/teen-quizzing-tournament-3/
CATEGORIES:Youth
END:VEVENT
END:VCALENDAR