BEGIN:VCALENDAR
VERSION:2.0
PRODID:-//South Central Ohio District - ECPv6.11.0.1//NONSGML v1.0//EN
CALSCALE:GREGORIAN
METHOD:PUBLISH
X-ORIGINAL-URL:https://staging.sconaz.org
X-WR-CALDESC:Events for South Central Ohio District
REFRESH-INTERVAL;VALUE=DURATION:PT1H
X-Robots-Tag:noindex
X-PUBLISHED-TTL:PT1H
BEGIN:VTIMEZONE
TZID:America/New_York
BEGIN:DAYLIGHT
TZOFFSETFROM:-0500
TZOFFSETTO:-0400
TZNAME:EDT
DTSTART:20250309T070000
END:DAYLIGHT
BEGIN:STANDARD
TZOFFSETFROM:-0400
TZOFFSETTO:-0500
TZNAME:EST
DTSTART:20251102T060000
END:STANDARD
END:VTIMEZONE
BEGIN:VEVENT
DTSTART;TZID=America/New_York:20250107T000000
DTEND;TZID=America/New_York:20250112T235959
DTSTAMP:20260420T002848
CREATED:20240124T200213Z
LAST-MODIFIED:20240124T200215Z
UID:10000182-1736208000-1736726399@staging.sconaz.org
SUMMARY:Third Wave Conference - NYI
DESCRIPTION:Florida
URL:https://staging.sconaz.org/event/third-wave-conference-nyi/
END:VEVENT
BEGIN:VEVENT
DTSTART;TZID=America/New_York:20250110T080000
DTEND;TZID=America/New_York:20250111T170000
DTSTAMP:20260420T002848
CREATED:20250108T204327Z
LAST-MODIFIED:20250108T221221Z
UID:10000277-1736496000-1736614800@staging.sconaz.org
SUMMARY:SCO NAZ KIDS Preteen Overnighter @ PickNaz Church
DESCRIPTION:Register online through this link: https://picknaz.churchcenter.com/registrations/events/2671917
URL:https://staging.sconaz.org/event/sco-naz-kids-preteen-overnighter-picknaz-church/
LOCATION:PickNaz\, 11775 Pickerington Rd.\, NW\, Pickerington\, Ohio\, 43147\, United States
ATTACH;FMTTYPE=image/png:https://staging.sconaz.org/wp-content/uploads/2025/01/Screenshot-2025-01-08-160959-1-e1736374329851.png
END:VEVENT
BEGIN:VEVENT
DTSTART;TZID=America/New_York:20250110T080000
DTEND;TZID=America/New_York:20250111T170000
DTSTAMP:20260420T002848
CREATED:20250109T050411Z
LAST-MODIFIED:20250109T050413Z
UID:10000278-1736496000-1736614800@staging.sconaz.org
SUMMARY:Preteen Overnighter
DESCRIPTION:
URL:https://staging.sconaz.org/event/preteen-overnighter/
LOCATION:PickNaz\, 11775 Pickerington Rd.\, NW\, Pickerington\, Ohio\, 43147\, United States
END:VEVENT
END:VCALENDAR