BEGIN:VCALENDAR
VERSION:2.0
PRODID:-//South Central Ohio District - ECPv6.11.0.1//NONSGML v1.0//EN
CALSCALE:GREGORIAN
METHOD:PUBLISH
X-WR-CALNAME:South Central Ohio District
X-ORIGINAL-URL:https://staging.sconaz.org
X-WR-CALDESC:Events for South Central Ohio District
REFRESH-INTERVAL;VALUE=DURATION:PT1H
X-Robots-Tag:noindex
X-PUBLISHED-TTL:PT1H
BEGIN:VTIMEZONE
TZID:America/New_York
BEGIN:DAYLIGHT
TZOFFSETFROM:-0500
TZOFFSETTO:-0400
TZNAME:EDT
DTSTART:20250309T070000
END:DAYLIGHT
BEGIN:STANDARD
TZOFFSETFROM:-0400
TZOFFSETTO:-0500
TZNAME:EST
DTSTART:20251102T060000
END:STANDARD
END:VTIMEZONE
BEGIN:VEVENT
DTSTART;TZID=America/New_York:20250106T140000
DTEND;TZID=America/New_York:20250106T153000
DTSTAMP:20260419T214115
CREATED:20241205T050942Z
LAST-MODIFIED:20241205T050944Z
UID:10000239-1736172000-1736177400@staging.sconaz.org
SUMMARY:District Assembly Planning
DESCRIPTION:
URL:https://staging.sconaz.org/event/district-assembly-planning/
LOCATION:district office
END:VEVENT
BEGIN:VEVENT
DTSTART;TZID=America/New_York:20250106T183000
DTEND;TZID=America/New_York:20250106T190000
DTSTAMP:20260419T214115
CREATED:20241205T051044Z
LAST-MODIFIED:20241205T051047Z
UID:10000240-1736188200-1736190000@staging.sconaz.org
SUMMARY:Camp Meeting Board
DESCRIPTION:
URL:https://staging.sconaz.org/event/camp-meeting-board/
LOCATION:HHRC
END:VEVENT
END:VCALENDAR