BEGIN:VCALENDAR
VERSION:2.0
PRODID:-//South Central Ohio District - ECPv6.11.0.1//NONSGML v1.0//EN
CALSCALE:GREGORIAN
METHOD:PUBLISH
X-ORIGINAL-URL:https://staging.sconaz.org
X-WR-CALDESC:Events for South Central Ohio District
REFRESH-INTERVAL;VALUE=DURATION:PT1H
X-Robots-Tag:noindex
X-PUBLISHED-TTL:PT1H
BEGIN:VTIMEZONE
TZID:America/New_York
BEGIN:DAYLIGHT
TZOFFSETFROM:-0500
TZOFFSETTO:-0400
TZNAME:EDT
DTSTART:20240310T070000
END:DAYLIGHT
BEGIN:STANDARD
TZOFFSETFROM:-0400
TZOFFSETTO:-0500
TZNAME:EST
DTSTART:20241103T060000
END:STANDARD
END:VTIMEZONE
BEGIN:VEVENT
DTSTART;TZID=America/New_York:20241102T000000
DTEND;TZID=America/New_York:20241102T235959
DTSTAMP:20260419T230823
CREATED:20240124T195610Z
LAST-MODIFIED:20240124T195613Z
UID:10000180-1730505600-1730591999@staging.sconaz.org
SUMMARY:Children's Quiz
DESCRIPTION:
URL:https://staging.sconaz.org/event/childrens-quiz/
END:VEVENT
BEGIN:VEVENT
DTSTART;TZID=America/New_York:20241102T100000
DTEND;TZID=America/New_York:20241102T120000
DTSTAMP:20260419T230823
CREATED:20240124T195529Z
LAST-MODIFIED:20240124T195532Z
UID:10000179-1730541600-1730548800@staging.sconaz.org
SUMMARY:NYI Council Meeting
DESCRIPTION:
URL:https://staging.sconaz.org/event/nyi-council-meeting-6/
END:VEVENT
END:VCALENDAR