BEGIN:VCALENDAR
VERSION:2.0
PRODID:-//South Central Ohio District - ECPv6.11.0.1//NONSGML v1.0//EN
CALSCALE:GREGORIAN
METHOD:PUBLISH
X-ORIGINAL-URL:https://staging.sconaz.org
X-WR-CALDESC:Events for South Central Ohio District
REFRESH-INTERVAL;VALUE=DURATION:PT1H
X-Robots-Tag:noindex
X-PUBLISHED-TTL:PT1H
BEGIN:VTIMEZONE
TZID:America/New_York
BEGIN:DAYLIGHT
TZOFFSETFROM:-0500
TZOFFSETTO:-0400
TZNAME:EDT
DTSTART:20240310T070000
END:DAYLIGHT
BEGIN:STANDARD
TZOFFSETFROM:-0400
TZOFFSETTO:-0500
TZNAME:EST
DTSTART:20241103T060000
END:STANDARD
END:VTIMEZONE
BEGIN:VEVENT
DTSTART;TZID=America/New_York:20241019T093000
DTEND;TZID=America/New_York:20241019T160000
DTSTAMP:20260420T002932
CREATED:20240824T180546Z
LAST-MODIFIED:20240824T181116Z
UID:10000219-1729330200-1729353600@staging.sconaz.org
SUMMARY:Teen Quizzing - Tournament #1
DESCRIPTION:Hosted by Plymouth Heights (25 Arnette Dr\, Franklin Furnace\, OH 45629) \n\n\n\nLuke chapters 1-6
URL:https://staging.sconaz.org/event/teen-quizzing-tournament-1/
CATEGORIES:Youth
END:VEVENT
BEGIN:VEVENT
DTSTART;TZID=America/New_York:20241019T100000
DTEND;TZID=America/New_York:20241019T120000
DTSTAMP:20260420T002932
CREATED:20230831T101842Z
LAST-MODIFIED:20240124T181653Z
UID:10000118-1729332000-1729339200@staging.sconaz.org
SUMMARY:District Advisory Board Meeting
DESCRIPTION:District Office
URL:https://staging.sconaz.org/event/dab-meeting/
END:VEVENT
END:VCALENDAR