BEGIN:VCALENDAR
VERSION:2.0
PRODID:-//South Central Ohio District - ECPv6.11.0.1//NONSGML v1.0//EN
CALSCALE:GREGORIAN
METHOD:PUBLISH
X-ORIGINAL-URL:https://staging.sconaz.org
X-WR-CALDESC:Events for South Central Ohio District
REFRESH-INTERVAL;VALUE=DURATION:PT1H
X-Robots-Tag:noindex
X-PUBLISHED-TTL:PT1H
BEGIN:VTIMEZONE
TZID:America/New_York
BEGIN:DAYLIGHT
TZOFFSETFROM:-0500
TZOFFSETTO:-0400
TZNAME:EDT
DTSTART:20240310T070000
END:DAYLIGHT
BEGIN:STANDARD
TZOFFSETFROM:-0400
TZOFFSETTO:-0500
TZNAME:EST
DTSTART:20241103T060000
END:STANDARD
END:VTIMEZONE
BEGIN:VEVENT
DTSTART;TZID=America/New_York:20241004T000000
DTEND;TZID=America/New_York:20241006T235959
DTSTAMP:20260420T002831
CREATED:20240109T034900Z
LAST-MODIFIED:20240124T181840Z
UID:10000146-1728000000-1728259199@staging.sconaz.org
SUMMARY:Pastor and Spouse Retreat
DESCRIPTION:We are changing things up! We will be meeting at the Hilton at Easton for this retreat! Our speaker will be Dr. Dan Boone.
URL:https://staging.sconaz.org/event/pastor-and-spouse-retreat/
END:VEVENT
END:VCALENDAR