BEGIN:VCALENDAR
VERSION:2.0
PRODID:-//South Central Ohio District - ECPv6.11.0.1//NONSGML v1.0//EN
CALSCALE:GREGORIAN
METHOD:PUBLISH
X-WR-CALNAME:South Central Ohio District
X-ORIGINAL-URL:https://staging.sconaz.org
X-WR-CALDESC:Events for South Central Ohio District
REFRESH-INTERVAL;VALUE=DURATION:PT1H
X-Robots-Tag:noindex
X-PUBLISHED-TTL:PT1H
BEGIN:VTIMEZONE
TZID:America/New_York
BEGIN:DAYLIGHT
TZOFFSETFROM:-0500
TZOFFSETTO:-0400
TZNAME:EDT
DTSTART:20240310T070000
END:DAYLIGHT
BEGIN:STANDARD
TZOFFSETFROM:-0400
TZOFFSETTO:-0500
TZNAME:EST
DTSTART:20241103T060000
END:STANDARD
END:VTIMEZONE
BEGIN:VEVENT
DTSTART;TZID=America/New_York:20240714T000000
DTEND;TZID=America/New_York:20240721T235959
DTSTAMP:20260423T002338
CREATED:20230831T101420Z
LAST-MODIFIED:20240124T194310Z
UID:10000113-1720915200-1721606399@staging.sconaz.org
SUMMARY:SCO Camp Meeting
DESCRIPTION:Children’s Mission Week – July 14-21  \n\n\n\n/ Speakers: Dr. David Graves & Dr. Samantha Chambo \n\n\n\n/Worship Leader: Nick Robertson  \n\n\n\n/ Hocking Hills Retreat Center – Logan\, OH
URL:https://staging.sconaz.org/event/sco-camp-meeting-2/
END:VEVENT
BEGIN:VEVENT
DTSTART;TZID=America/New_York:20240719T113000
DTEND;TZID=America/New_York:20240719T140000
DTSTAMP:20260423T002338
CREATED:20240418T200740Z
LAST-MODIFIED:20240418T201307Z
UID:10000214-1721388600-1721397600@staging.sconaz.org
SUMMARY:Coaching for Effective Leadership
DESCRIPTION:Old Dutch Restaurant –  \n\n\n\nDr. Samantha Chambo will be speaking to women in ministry and ministry spouses! We will meet at the Old Dutch Restaurant at 11:30 am. This will be a wonderful time we hope you can join us.
URL:https://staging.sconaz.org/event/coaching-for-effective-leadership/
END:VEVENT
END:VCALENDAR