BEGIN:VCALENDAR
VERSION:2.0
PRODID:-//South Central Ohio District - ECPv6.11.0.1//NONSGML v1.0//EN
CALSCALE:GREGORIAN
METHOD:PUBLISH
X-WR-CALNAME:South Central Ohio District
X-ORIGINAL-URL:https://staging.sconaz.org
X-WR-CALDESC:Events for South Central Ohio District
REFRESH-INTERVAL;VALUE=DURATION:PT1H
X-Robots-Tag:noindex
X-PUBLISHED-TTL:PT1H
BEGIN:VTIMEZONE
TZID:UTC
BEGIN:STANDARD
TZOFFSETFROM:+0000
TZOFFSETTO:+0000
TZNAME:UTC
DTSTART:20240101T000000
END:STANDARD
END:VTIMEZONE
BEGIN:VEVENT
DTSTART;TZID=UTC:20240701T080000
DTEND;TZID=UTC:20240706T170000
DTSTAMP:20260423T002209
CREATED:20230323T075232Z
LAST-MODIFIED:20230323T075232Z
UID:10000073-1719820800-1720285200@staging.sconaz.org
SUMMARY:Q2024
DESCRIPTION:
URL:https://staging.sconaz.org/event/q2024/
LOCATION:PLNU
CATEGORIES:Youth
END:VEVENT
END:VCALENDAR