BEGIN:VCALENDAR
VERSION:2.0
PRODID:-//South Central Ohio District - ECPv6.11.0.1//NONSGML v1.0//EN
CALSCALE:GREGORIAN
METHOD:PUBLISH
X-WR-CALNAME:South Central Ohio District
X-ORIGINAL-URL:https://staging.sconaz.org
X-WR-CALDESC:Events for South Central Ohio District
REFRESH-INTERVAL;VALUE=DURATION:PT1H
X-Robots-Tag:noindex
X-PUBLISHED-TTL:PT1H
BEGIN:VTIMEZONE
TZID:America/New_York
BEGIN:DAYLIGHT
TZOFFSETFROM:-0500
TZOFFSETTO:-0400
TZNAME:EDT
DTSTART:20240310T070000
END:DAYLIGHT
BEGIN:STANDARD
TZOFFSETFROM:-0400
TZOFFSETTO:-0500
TZNAME:EST
DTSTART:20241103T060000
END:STANDARD
END:VTIMEZONE
BEGIN:VEVENT
DTSTART;TZID=America/New_York:20240413T090000
DTEND;TZID=America/New_York:20240413T140000
DTSTAMP:20260423T051954
CREATED:20230831T100606Z
LAST-MODIFIED:20240213T233416Z
UID:10000104-1712998800-1713016800@staging.sconaz.org
SUMMARY:NMI/NYI Convention
DESCRIPTION:Here is the schedule for the day:  \n\n\n\n\nNMI Convention: 9:00-11:30\n\n\n\nLunch: 11:30-12:00\n\n\n\nNYI Convention: 12:00-2:00\n\n\n\n\nHeritage Church  \n\n\n\nLunch Order Form:
URL:https://staging.sconaz.org/event/nyi-nmi-convention/
CATEGORIES:Youth
END:VEVENT
END:VCALENDAR