BEGIN:VCALENDAR
VERSION:2.0
PRODID:-//South Central Ohio District - ECPv6.11.0.1//NONSGML v1.0//EN
CALSCALE:GREGORIAN
METHOD:PUBLISH
X-ORIGINAL-URL:https://staging.sconaz.org
X-WR-CALDESC:Events for South Central Ohio District
REFRESH-INTERVAL;VALUE=DURATION:PT1H
X-Robots-Tag:noindex
X-PUBLISHED-TTL:PT1H
BEGIN:VTIMEZONE
TZID:America/New_York
BEGIN:DAYLIGHT
TZOFFSETFROM:-0500
TZOFFSETTO:-0400
TZNAME:EDT
DTSTART:20240310T070000
END:DAYLIGHT
BEGIN:STANDARD
TZOFFSETFROM:-0400
TZOFFSETTO:-0500
TZNAME:EST
DTSTART:20241103T060000
END:STANDARD
END:VTIMEZONE
BEGIN:VEVENT
DTSTART;TZID=America/New_York:20240311T000000
DTEND;TZID=America/New_York:20240311T235959
DTSTAMP:20260423T102634
CREATED:20230831T100404Z
LAST-MODIFIED:20240124T191114Z
UID:10000101-1710115200-1710201599@staging.sconaz.org
SUMMARY:Annual Pastors' Reports (APR) - Due
DESCRIPTION:
URL:https://staging.sconaz.org/event/annual-pastors-reports-due/
END:VEVENT
BEGIN:VEVENT
DTSTART;TZID=America/New_York:20240311T180000
DTEND;TZID=America/New_York:20240311T190000
DTSTAMP:20260423T102634
CREATED:20240109T033708Z
LAST-MODIFIED:20240129T191947Z
UID:10000142-1710180000-1710183600@staging.sconaz.org
SUMMARY:Logan Zone Mission Rally at Logan
DESCRIPTION:Fellowship following the service.
URL:https://staging.sconaz.org/event/logan-zone-mission-rally-at-logan/
LOCATION:Logan\, 650\, Walhonding Avenue\, South Logan\, Logan\, Hocking County\, Ohio\, 41318\, United States
END:VEVENT
END:VCALENDAR