BEGIN:VCALENDAR
VERSION:2.0
PRODID:-//South Central Ohio District - ECPv6.11.0.1//NONSGML v1.0//EN
CALSCALE:GREGORIAN
METHOD:PUBLISH
X-WR-CALNAME:South Central Ohio District
X-ORIGINAL-URL:https://staging.sconaz.org
X-WR-CALDESC:Events for South Central Ohio District
REFRESH-INTERVAL;VALUE=DURATION:PT1H
X-Robots-Tag:noindex
X-PUBLISHED-TTL:PT1H
BEGIN:VTIMEZONE
TZID:America/New_York
BEGIN:DAYLIGHT
TZOFFSETFROM:-0500
TZOFFSETTO:-0400
TZNAME:EDT
DTSTART:20240310T070000
END:DAYLIGHT
BEGIN:STANDARD
TZOFFSETFROM:-0400
TZOFFSETTO:-0500
TZNAME:EST
DTSTART:20241103T060000
END:STANDARD
END:VTIMEZONE
BEGIN:VEVENT
DTSTART;TZID=America/New_York:20240310T160000
DTEND;TZID=America/New_York:20240310T170000
DTSTAMP:20260423T114234
CREATED:20240109T033432Z
LAST-MODIFIED:20240129T201326Z
UID:10000141-1710086400-1710090000@staging.sconaz.org
SUMMARY:Circleville Zone Mission Rally at Circleville Heritage
DESCRIPTION:Cookie reception following the service.
URL:https://staging.sconaz.org/event/circleville-zone-mission-rally-at-circleville-heritage/
LOCATION:Heritage Church – Circleville Campus\, 2264\, Walnut Creek Pike\, Northwood Park\, Circleville\, Pickaway County\, Ohio\, 43113\, United States
END:VEVENT
END:VCALENDAR