BEGIN:VCALENDAR
VERSION:2.0
PRODID:-//South Central Ohio District - ECPv6.11.0.1//NONSGML v1.0//EN
CALSCALE:GREGORIAN
METHOD:PUBLISH
X-ORIGINAL-URL:https://staging.sconaz.org
X-WR-CALDESC:Events for South Central Ohio District
REFRESH-INTERVAL;VALUE=DURATION:PT1H
X-Robots-Tag:noindex
X-PUBLISHED-TTL:PT1H
BEGIN:VTIMEZONE
TZID:America/New_York
BEGIN:DAYLIGHT
TZOFFSETFROM:-0500
TZOFFSETTO:-0400
TZNAME:EDT
DTSTART:20240310T070000
END:DAYLIGHT
BEGIN:STANDARD
TZOFFSETFROM:-0400
TZOFFSETTO:-0500
TZNAME:EST
DTSTART:20241103T060000
END:STANDARD
END:VTIMEZONE
BEGIN:VEVENT
DTSTART;TZID=America/New_York:20240304T080000
DTEND;TZID=America/New_York:20240307T170000
DTSTAMP:20260423T132206
CREATED:20240124T153947Z
LAST-MODIFIED:20240124T153950Z
UID:10000147-1709539200-1709830800@staging.sconaz.org
SUMMARY:Exponential Conference
DESCRIPTION:Orlando\, FL
URL:https://staging.sconaz.org/event/exponential-conference/
END:VEVENT
BEGIN:VEVENT
DTSTART;TZID=America/New_York:20240306T190000
DTEND;TZID=America/New_York:20240306T200000
DTSTAMP:20260423T132206
CREATED:20240109T032721Z
LAST-MODIFIED:20240129T191657Z
UID:10000139-1709751600-1709755200@staging.sconaz.org
SUMMARY:Portsmouth Zone Mission Rally at Cornerstone
DESCRIPTION:Dinner begins at 5:30 pm.
URL:https://staging.sconaz.org/event/portsmouth-zone-mission-rally-at-cornerstone/
LOCATION:Cornerstone\, 12138 Gallia Pike Road\, Wheelersburg\, Ohio\, 45694\, United States
END:VEVENT
END:VCALENDAR