BEGIN:VCALENDAR
VERSION:2.0
PRODID:-//South Central Ohio District - ECPv6.11.0.1//NONSGML v1.0//EN
CALSCALE:GREGORIAN
METHOD:PUBLISH
X-ORIGINAL-URL:https://staging.sconaz.org
X-WR-CALDESC:Events for South Central Ohio District
REFRESH-INTERVAL;VALUE=DURATION:PT1H
X-Robots-Tag:noindex
X-PUBLISHED-TTL:PT1H
BEGIN:VTIMEZONE
TZID:America/New_York
BEGIN:DAYLIGHT
TZOFFSETFROM:-0500
TZOFFSETTO:-0400
TZNAME:EDT
DTSTART:20240310T070000
END:DAYLIGHT
BEGIN:STANDARD
TZOFFSETFROM:-0400
TZOFFSETTO:-0500
TZNAME:EST
DTSTART:20241103T060000
END:STANDARD
END:VTIMEZONE
BEGIN:VEVENT
DTSTART;TZID=America/New_York:20240303T000000
DTEND;TZID=America/New_York:20240305T235959
DTSTAMP:20260423T065857
CREATED:20240124T191747Z
LAST-MODIFIED:20240124T191751Z
UID:10000169-1709424000-1709683199@staging.sconaz.org
SUMMARY:NYI - Leadership Conference
DESCRIPTION:
URL:https://staging.sconaz.org/event/nyi-leadership-conference/
END:VEVENT
BEGIN:VEVENT
DTSTART;TZID=America/New_York:20240303T173000
DTEND;TZID=America/New_York:20240303T183000
DTSTAMP:20260423T065857
CREATED:20240109T031822Z
LAST-MODIFIED:20240125T204421Z
UID:10000136-1709487000-1709490600@staging.sconaz.org
SUMMARY:Marietta Zone Mission Rally at Belpre
DESCRIPTION:Light Refreshments begin at 5:00 pm.
URL:https://staging.sconaz.org/event/marietta-zone-mission-rally-at-belpre/
LOCATION:Belpre\, 1301 Putnam Howe Drive\, Belpre\, Washington County\, Ohio\, 45714\, United States
END:VEVENT
END:VCALENDAR